BEGIN:VCALENDAR
PRODID:-//Pixl8//Eventfolio//EN
VERSION:2.0
X-WR-TIMEZONE:Europe/London
CALSCALE:GREGORIAN
METHOD:PUBLISH
CLASS:PUBLIC
BEGIN:VTIMEZONE
TZID:Europe/London
LAST-MODIFIED:20260306T231828Z
TZURL:https://www.tzurl.org/zoneinfo-outlook/Europe/London
X-LIC-LOCATION:Europe/London
BEGIN:DAYLIGHT
TZNAME:BST
TZOFFSETFROM:+0000
TZOFFSETTO:+0100
DTSTART:19700329T010000
RRULE:FREQ=YEARLY;BYMONTH=3;BYDAY=-1SU
END:DAYLIGHT
BEGIN:STANDARD
TZNAME:GMT
TZOFFSETFROM:+0100
TZOFFSETTO:+0000
DTSTART:19701025T020000
RRULE:FREQ=YEARLY;BYMONTH=10;BYDAY=-1SU
END:STANDARD
END:VTIMEZONE
BEGIN:VEVENT
DTSTART;TZID=Europe/London:20240627T100000
DTEND;TZID=Europe/London:20240627T150000
DTSTAMP:20260420T115929Z
UID:{B07DB029-03FC-4058-8C52714D940FADBB}
LOCATION:Virtual
SUMMARY:Train the Trainer
DESCRIPTION:Join us for the day to explore the fundamentals of internal training.\n
 \n
 \n
 \n
 This is a great course for anyone that is responsible for training others or looking to brush up on their wider training skills.\n
 \n
 Event details: https://www.bossfederation.com/events/event-calendar/traintrainer.html
PRIORITY:1
END:VEVENT
END:VCALENDAR