BEGIN:VCALENDAR
PRODID:-//Pixl8//Eventfolio//EN
VERSION:2.0
X-WR-TIMEZONE:Europe/London
CALSCALE:GREGORIAN
METHOD:PUBLISH
CLASS:PUBLIC
BEGIN:VTIMEZONE
TZID:Europe/London
LAST-MODIFIED:20260306T231828Z
TZURL:https://www.tzurl.org/zoneinfo-outlook/Europe/London
X-LIC-LOCATION:Europe/London
BEGIN:DAYLIGHT
TZNAME:BST
TZOFFSETFROM:+0000
TZOFFSETTO:+0100
DTSTART:19700329T010000
RRULE:FREQ=YEARLY;BYMONTH=3;BYDAY=-1SU
END:DAYLIGHT
BEGIN:STANDARD
TZNAME:GMT
TZOFFSETFROM:+0100
TZOFFSETTO:+0000
DTSTART:19701025T020000
RRULE:FREQ=YEARLY;BYMONTH=10;BYDAY=-1SU
END:STANDARD
END:VTIMEZONE
BEGIN:VEVENT
DTSTART;TZID=Europe/London;VALUE=DATE:20250318
DTEND;TZID=Europe/London;VALUE=DATE:20250321
DTSTAMP:20260422T115104Z
UID:{9505897B-9F3D-49B7-9A2B73C91AC2A871}
LOCATION:S3-S7\, South Gallery Halls Excel\, London
SUMMARY:The Cleaning Show 2025
DESCRIPTION:The UK’S Largest Gathering of Cleaning & Hygiene Professionals\n
 \n
 Event details: https://www.bossfederation.com/events/event-calendar/the-cleaning-show-2025.html
PRIORITY:1
END:VEVENT
END:VCALENDAR