BEGIN:VCALENDAR
PRODID:-//Pixl8//Eventfolio//EN
VERSION:2.0
X-WR-TIMEZONE:Europe/London
CALSCALE:GREGORIAN
METHOD:PUBLISH
CLASS:PUBLIC
BEGIN:VTIMEZONE
TZID:Europe/London
LAST-MODIFIED:20260306T231828Z
TZURL:https://www.tzurl.org/zoneinfo-outlook/Europe/London
X-LIC-LOCATION:Europe/London
BEGIN:DAYLIGHT
TZNAME:BST
TZOFFSETFROM:+0000
TZOFFSETTO:+0100
DTSTART:19700329T010000
RRULE:FREQ=YEARLY;BYMONTH=3;BYDAY=-1SU
END:DAYLIGHT
BEGIN:STANDARD
TZNAME:GMT
TZOFFSETFROM:+0100
TZOFFSETTO:+0000
DTSTART:19701025T020000
RRULE:FREQ=YEARLY;BYMONTH=10;BYDAY=-1SU
END:STANDARD
END:VTIMEZONE
BEGIN:VEVENT
DTSTART;TZID=Europe/London:20250513T110000
DTEND;TZID=Europe/London:20250513T130000
DTSTAMP:20260424T073825Z
UID:{81475289-FC48-4616-B6619F6E0220C1F4}
LOCATION:Teams
SUMMARY:BOSS Synergy Group
DESCRIPTION:The Synergy Group provides an opportunity for companies to meet and represent the issues and challenges relating to the business supplies industry data standards.\n
 \n
 Event details: https://www.bossfederation.com/events/event-calendar/synergy-group.html
PRIORITY:1
END:VEVENT
END:VCALENDAR