BEGIN:VCALENDAR
PRODID:-//Pixl8//Eventfolio//EN
VERSION:2.0
X-WR-TIMEZONE:Europe/London
CALSCALE:GREGORIAN
METHOD:PUBLISH
CLASS:PUBLIC
BEGIN:VTIMEZONE
TZID:Europe/London
LAST-MODIFIED:20260306T231828Z
TZURL:https://www.tzurl.org/zoneinfo-outlook/Europe/London
X-LIC-LOCATION:Europe/London
BEGIN:DAYLIGHT
TZNAME:BST
TZOFFSETFROM:+0000
TZOFFSETTO:+0100
DTSTART:19700329T010000
RRULE:FREQ=YEARLY;BYMONTH=3;BYDAY=-1SU
END:DAYLIGHT
BEGIN:STANDARD
TZNAME:GMT
TZOFFSETFROM:+0100
TZOFFSETTO:+0000
DTSTART:19701025T020000
RRULE:FREQ=YEARLY;BYMONTH=10;BYDAY=-1SU
END:STANDARD
END:VTIMEZONE
BEGIN:VEVENT
DTSTART;TZID=Europe/London:20260513T140000
DTEND;TZID=Europe/London:20260513T160000
DTSTAMP:20260421T070656Z
UID:{3CCBA07D-2196-4B65-9137A290CD85AA59}
LOCATION:Virtual 
SUMMARY:Policy & Public Affairs Committee 
DESCRIPTION:The BOSS/BPIF Policy and Public Affairs Committee come together 3 times a year to discuss how changes will and have impacted the industry, and agree what the government are doing to support us and make doing business easier.\n
 \n
 Event details: https://www.bossfederation.com/events/event-calendar/public-affairs-meeting-may-2026.html
PRIORITY:1
END:VEVENT
END:VCALENDAR