BEGIN:VCALENDAR
PRODID:-//Pixl8//Eventfolio//EN
VERSION:2.0
X-WR-TIMEZONE:Europe/London
CALSCALE:GREGORIAN
METHOD:PUBLISH
CLASS:PUBLIC
BEGIN:VTIMEZONE
TZID:Europe/London
LAST-MODIFIED:20260306T231828Z
TZURL:https://www.tzurl.org/zoneinfo-outlook/Europe/London
X-LIC-LOCATION:Europe/London
BEGIN:DAYLIGHT
TZNAME:BST
TZOFFSETFROM:+0000
TZOFFSETTO:+0100
DTSTART:19700329T010000
RRULE:FREQ=YEARLY;BYMONTH=3;BYDAY=-1SU
END:DAYLIGHT
BEGIN:STANDARD
TZNAME:GMT
TZOFFSETFROM:+0100
TZOFFSETTO:+0000
DTSTART:19701025T020000
RRULE:FREQ=YEARLY;BYMONTH=10;BYDAY=-1SU
END:STANDARD
END:VTIMEZONE
BEGIN:VEVENT
DTSTART;TZID=Europe/London;VALUE=DATE:20240119
DTEND;TZID=Europe/London;VALUE=DATE:20240120
DTSTAMP:20260422T204004Z
UID:{77353858-3EA6-4A1B-8CDB3D17770E32E5}
LOCATION:Eastwood Hall\, Nottingham
SUMMARY:Nemo Office Club Kickstart Event
DESCRIPTION:Dealer group Nemo Office Club has announced the first of its primary networking events for members and suppliers. The annual Kickstart event is on Friday 19th January and returns to Eastwood Hall in Nottingham.\n
 \n
 Event details: https://www.bossfederation.com/events/event-calendar/nemo-office-club-kickstart-event.html
PRIORITY:1
END:VEVENT
END:VCALENDAR