BEGIN:VCALENDAR
PRODID:-//Pixl8//Eventfolio//EN
VERSION:2.0
X-WR-TIMEZONE:Europe/London
CALSCALE:GREGORIAN
METHOD:PUBLISH
CLASS:PUBLIC
BEGIN:VTIMEZONE
TZID:Europe/London
LAST-MODIFIED:20260306T231828Z
TZURL:https://www.tzurl.org/zoneinfo-outlook/Europe/London
X-LIC-LOCATION:Europe/London
BEGIN:DAYLIGHT
TZNAME:BST
TZOFFSETFROM:+0000
TZOFFSETTO:+0100
DTSTART:19700329T010000
RRULE:FREQ=YEARLY;BYMONTH=3;BYDAY=-1SU
END:DAYLIGHT
BEGIN:STANDARD
TZNAME:GMT
TZOFFSETFROM:+0100
TZOFFSETTO:+0000
DTSTART:19701025T020000
RRULE:FREQ=YEARLY;BYMONTH=10;BYDAY=-1SU
END:STANDARD
END:VTIMEZONE
BEGIN:VEVENT
DTSTART;TZID=Europe/London:20250501T100000
DTEND;TZID=Europe/London:20250501T110000
DTSTAMP:20260425T123457Z
UID:{DB3A08B8-7D7A-453F-AC84303E89924A6D}
LOCATION:Virtual
SUMMARY:Employment Law Legislation Update
DESCRIPTION:This webinar aims to provide businesses, HR professionals and Health and Safety specialists with essential legal and procedural knowledge for conducting thorough and compliant accident investigations with Guest Speaker, Gary Lewis (Lawyer). \n
 \n
 Event details: https://www.bossfederation.com/events/event-calendar/employment-law-legislation-update.html
PRIORITY:1
END:VEVENT
END:VCALENDAR