BEGIN:VCALENDAR
PRODID:-//Pixl8//Eventfolio//EN
VERSION:2.0
X-WR-TIMEZONE:Europe/London
CALSCALE:GREGORIAN
METHOD:PUBLISH
CLASS:PUBLIC
BEGIN:VTIMEZONE
TZID:Europe/London
LAST-MODIFIED:20260306T231828Z
TZURL:https://www.tzurl.org/zoneinfo-outlook/Europe/London
X-LIC-LOCATION:Europe/London
BEGIN:DAYLIGHT
TZNAME:BST
TZOFFSETFROM:+0000
TZOFFSETTO:+0100
DTSTART:19700329T010000
RRULE:FREQ=YEARLY;BYMONTH=3;BYDAY=-1SU
END:DAYLIGHT
BEGIN:STANDARD
TZNAME:GMT
TZOFFSETFROM:+0100
TZOFFSETTO:+0000
DTSTART:19701025T020000
RRULE:FREQ=YEARLY;BYMONTH=10;BYDAY=-1SU
END:STANDARD
END:VTIMEZONE
BEGIN:VEVENT
DTSTART;TZID=Europe/London;VALUE=DATE:20260417
DTEND;TZID=Europe/London;VALUE=DATE:20260418
DTSTAMP:20260422T113532Z
UID:{5F5D52FC-A521-4585-80E58369FDEA9113}
LOCATION:Ilkley
SUMMARY:BOSS North - NetWalking
DESCRIPTION:This event blends business networking with physical activity, offering a refreshing way to connect with fellow professionals in the great outdoors.\n
 \n
 Event details: https://www.bossfederation.com/events/event-calendar/boss-north-netwalking.html
PRIORITY:1
END:VEVENT
END:VCALENDAR