BEGIN:VCALENDAR
PRODID:-//Pixl8//Eventfolio//EN
VERSION:2.0
X-WR-TIMEZONE:Europe/London
CALSCALE:GREGORIAN
METHOD:PUBLISH
CLASS:PUBLIC
BEGIN:VTIMEZONE
TZID:Europe/London
LAST-MODIFIED:20260306T231828Z
TZURL:https://www.tzurl.org/zoneinfo-outlook/Europe/London
X-LIC-LOCATION:Europe/London
BEGIN:DAYLIGHT
TZNAME:BST
TZOFFSETFROM:+0000
TZOFFSETTO:+0100
DTSTART:19700329T010000
RRULE:FREQ=YEARLY;BYMONTH=3;BYDAY=-1SU
END:DAYLIGHT
BEGIN:STANDARD
TZNAME:GMT
TZOFFSETFROM:+0100
TZOFFSETTO:+0000
DTSTART:19701025T020000
RRULE:FREQ=YEARLY;BYMONTH=10;BYDAY=-1SU
END:STANDARD
END:VTIMEZONE
BEGIN:VEVENT
DTSTART;TZID=Europe/London:20240619T090000
DTEND;TZID=Europe/London:20240619T230000
DTSTAMP:20260422T171251Z
UID:{E279E68E-B317-4AA7-B7CA19D7C6E6E299}
LOCATION:Carden Park Golf Resort Broxton Rd\, Clutton\, Chester CH3 9ER
SUMMARY:BOSS Business Supplies Charity - Charity Day 2024
DESCRIPTION:Following its record-breaking fundraising event in 2023, the BOSS Business Supplies Charity has announced a change of venue for this year's annual Charity Day. This will be held on 19th June 2024 at Carden Park in Cheshire.\n
 \n
 Event details: https://www.bossfederation.com/events/event-calendar/boss-business-supplies-charity-charity-day-2024.html
PRIORITY:1
END:VEVENT
END:VCALENDAR