BEGIN:VCALENDAR
PRODID:-//Pixl8//Eventfolio//EN
VERSION:2.0
X-WR-TIMEZONE:Europe/London
CALSCALE:GREGORIAN
METHOD:PUBLISH
CLASS:PUBLIC
BEGIN:VTIMEZONE
TZID:Europe/London
LAST-MODIFIED:20260306T231828Z
TZURL:https://www.tzurl.org/zoneinfo-outlook/Europe/London
X-LIC-LOCATION:Europe/London
BEGIN:DAYLIGHT
TZNAME:BST
TZOFFSETFROM:+0000
TZOFFSETTO:+0100
DTSTART:19700329T010000
RRULE:FREQ=YEARLY;BYMONTH=3;BYDAY=-1SU
END:DAYLIGHT
BEGIN:STANDARD
TZNAME:GMT
TZOFFSETFROM:+0100
TZOFFSETTO:+0000
DTSTART:19701025T020000
RRULE:FREQ=YEARLY;BYMONTH=10;BYDAY=-1SU
END:STANDARD
END:VTIMEZONE
BEGIN:VEVENT
DTSTART;TZID=Europe/London;VALUE=DATE:20260618
DTEND;TZID=Europe/London;VALUE=DATE:20260619
DTSTAMP:20260421T093321Z
UID:{6BD6E440-622F-4AEF-AC978E81939DCA95}
LOCATION:Crowne Plaza\, Stratford-Upon-Avon
SUMMARY:BLOC National Conference 2026 SAVE THE DATE!
DESCRIPTION:We are excited to announce our first BLOC National Conference and official launch that will take place on Thursday, 18th June 2026, at the Crowne Plaza, Stratford-upon-Avon.\n
 \n
 Event details: https://www.bossfederation.com/events/event-calendar/bloc-national-conference-2026-save-the-date.html
PRIORITY:1
END:VEVENT
END:VCALENDAR